BEGIN:VCALENDAR
VERSION:2.0
PRODID:-//Plone.org//NONSGML plone.app.event//EN
X-WR-TIMEZONE:America/Toronto
BEGIN:VEVENT
SUMMARY:Motion matrices: Seminar on Expanded Piano Performance
DTSTART;TZID=America/Montreal;VALUE=DATE-TIME:20160929T173000
DTEND;TZID=America/Montreal;VALUE=DATE-TIME:20160929T183000
DTSTAMP;VALUE=DATE-TIME:20260421T175853Z
UID:442696787b4f4392b986199493d80523@project_zeoclients
CREATED;VALUE=DATE-TIME:20210321T220106Z
DESCRIPTION:This CIRMMT Research Workshop is organized by Vânia Eger Pont
 es in collaboration with IDMIL and the Research Axis 1 -Instruments\, devi
 ces\, and systems- and will be held at Clara Lichtenstein Hall.\nNo regist
 ration is required.
LAST-MODIFIED;VALUE=DATE-TIME:20210420T151108Z
LOCATION:Clara Lichtenstein Hall\, 555 Sherbrooke Street West
URL:https://www.cirmmt.org/fr/events/workshops/research/Vania_motion_matri
 ces
END:VEVENT
BEGIN:VTIMEZONE
TZID:America/Montreal
X-LIC-LOCATION:America/Montreal
BEGIN:DAYLIGHT
DTSTART;VALUE=DATE-TIME:20160313T030000
TZNAME:EDT
TZOFFSETFROM:-0500
TZOFFSETTO:-0400
END:DAYLIGHT
END:VTIMEZONE
END:VCALENDAR
