BEGIN:VCALENDAR
VERSION:2.0
PRODID:-//Plone.org//NONSGML plone.app.event//EN
X-WR-TIMEZONE:America/Toronto
BEGIN:VEVENT
SUMMARY:World Voice Day Seminar
DTSTART;TZID=America/Montreal;VALUE=DATE-TIME:20160416T150000
DTEND;TZID=America/Montreal;VALUE=DATE-TIME:20160416T170000
DTSTAMP;VALUE=DATE-TIME:20260421T191441Z
UID:a3d3ad3e154d4a67ab1166c99192fdd7@project_zeoclients
CREATED;VALUE=DATE-TIME:20210321T220107Z
DESCRIPTION:This seminar is co-organized by the McGill’s School of Commu
 nication Sciences and Disorders (SCSD)\, the Schulich School of Music\, an
 d CIRMMT. It will take place on April 16\, 2016 from 3:00-5:00pm in A832-3
 3 at the Elizabeth Wirth Music Building of McGill University. Registration
  is required.
LAST-MODIFIED;VALUE=DATE-TIME:20210420T151231Z
LOCATION:A832\, Elizabeth Wirth Music Building\, 527 Sherbrooke St. West.
URL:https://www.cirmmt.org/fr/events/workshops/research/WVD2016/wvd_2016
END:VEVENT
BEGIN:VTIMEZONE
TZID:America/Montreal
X-LIC-LOCATION:America/Montreal
BEGIN:DAYLIGHT
DTSTART;VALUE=DATE-TIME:20160313T030000
TZNAME:EDT
TZOFFSETFROM:-0500
TZOFFSETTO:-0400
END:DAYLIGHT
END:VTIMEZONE
END:VCALENDAR
