BEGIN:VCALENDAR
VERSION:2.0
PRODID:-//Plone.org//NONSGML plone.app.event//EN
X-WR-TIMEZONE:America/Toronto
BEGIN:VEVENT
SUMMARY:La pratique d'Annea Lockwood en enregistrement sur le terrain et e
 n composition d'ambiances sonores
DTSTART;TZID=America/Toronto;VALUE=DATE-TIME:20240124T110000
DTEND;TZID=America/Toronto;VALUE=DATE-TIME:20240124T120000
DTSTAMP;VALUE=DATE-TIME:20260421T111057Z
UID:66d2e390f5fe4ea0b783f2e36171fb92@project_zeoclients
CONTACT:info[AT]cirmmt[DOT]org\, info@cirmmt.org
CREATED;VALUE=DATE-TIME:20240110T170738Z
DESCRIPTION:Cet atelier se base sur la conférence d'Annea Lockwood et est
  organisé par l'axe de recherche 4 du CIRMMT.
LAST-MODIFIED;VALUE=DATE-TIME:20240110T172049Z
LOCATION:Salle Papineau-Couture (B-421)\, Faculté de musique\, Universit
 é de Montréal
URL:https://www.cirmmt.org/fr/events/workshops/research/annea-lockwood-wor
 kshop
END:VEVENT
BEGIN:VTIMEZONE
TZID:America/Toronto
X-LIC-LOCATION:America/Toronto
BEGIN:STANDARD
DTSTART;VALUE=DATE-TIME:20231105T010000
TZNAME:EST
TZOFFSETFROM:-0400
TZOFFSETTO:-0500
END:STANDARD
END:VTIMEZONE
END:VCALENDAR
