BEGIN:VCALENDAR
VERSION:2.0
PRODID:-//Plone.org//NONSGML plone.app.event//EN
X-WR-TIMEZONE:America/Toronto
BEGIN:VEVENT
SUMMARY:Atelier sur la création et l’improvisation sonores spatialisée
 s avec l’outil en source libre Live 4 Life développé sur la plateforme
  SuperCollider
DTSTART;TZID=America/Toronto;VALUE=DATE-TIME:20231104T100000
DTEND;TZID=America/Toronto;VALUE=DATE-TIME:20231105T170000
DTSTAMP;VALUE=DATE-TIME:20260421T094541Z
UID:a6141afac649466a9254f40cf6efeb04@project_zeoclients
CONTACT:Christophe Lengelé\, lengele.christophe@courrier.uqam.ca
CREATED;VALUE=DATE-TIME:20231013T190732Z
DESCRIPTION:Un atelier organisé par Christophe Lengelé\, membre étudian
 t du CIRMMT\, en collaboration avec l'axe de recherche 1 (Instruments\, di
 spositifs et systèmes).\n*Plusieurs dates de cet atelier peuvent être pr
 oposées - voir ci-dessous*
LAST-MODIFIED;VALUE=DATE-TIME:20231018T141645Z
LOCATION:A-807 (8ème étage)\, CIRMMT\, Pavillon de la musique Elizabeth 
 Wirth\, 527 rue Sherbrooke O.
URL:https://www.cirmmt.org/fr/events/workshops/research/atelier-sur-la-cre
 ation-et-l2019improvisation-sonores-spatialisees-avec-l2019outil-en-source
 -libre-live-4-life-developpe-sur-la-plateforme-supercollider
END:VEVENT
BEGIN:VTIMEZONE
TZID:America/Toronto
X-LIC-LOCATION:America/Toronto
BEGIN:DAYLIGHT
DTSTART;VALUE=DATE-TIME:20230312T030000
TZNAME:EDT
TZOFFSETFROM:-0500
TZOFFSETTO:-0400
END:DAYLIGHT
BEGIN:STANDARD
DTSTART;VALUE=DATE-TIME:20231105T010000
TZNAME:EST
TZOFFSETFROM:-0400
TZOFFSETTO:-0500
END:STANDARD
END:VTIMEZONE
END:VCALENDAR
