BEGIN:VCALENDAR
VERSION:2.0
PRODID:-//Plone.org//NONSGML plone.app.event//EN
X-WR-TIMEZONE:America/Toronto
BEGIN:VEVENT
SUMMARY:Workshop: Augmenting flutes\, instruments\, performance and compos
 itions: The Beta Lyræ project
DTSTART;TZID=America/Montreal;VALUE=DATE-TIME:20180406T140000
DTEND;TZID=America/Montreal;VALUE=DATE-TIME:20180406T160000
DTSTAMP;VALUE=DATE-TIME:20260421T180229Z
UID:55bc1072c54d42f6a668b3c7e8113136@project_zeoclients
CREATED;VALUE=DATE-TIME:20210321T220109Z
DESCRIPTION:A Research Axis 4 (Expanded musical practice) workshop. This w
 orkshop is free and open to all.\n
LAST-MODIFIED;VALUE=DATE-TIME:20210420T151233Z
LOCATION:A820\, CIRMMT\, Wirth Music Building\, 527 Sherbrooke St. W.
URL:https://www.cirmmt.org/fr/events/workshops/research/betalyrae/ra4-beta
 lyrae
END:VEVENT
BEGIN:VTIMEZONE
TZID:America/Montreal
X-LIC-LOCATION:America/Montreal
BEGIN:DAYLIGHT
DTSTART;VALUE=DATE-TIME:20180311T030000
TZNAME:EDT
TZOFFSETFROM:-0500
TZOFFSETTO:-0400
END:DAYLIGHT
END:VTIMEZONE
END:VCALENDAR
