BEGIN:VCALENDAR
VERSION:2.0
PRODID:-//Plone.org//NONSGML plone.app.event//EN
X-WR-TIMEZONE:America/Toronto
BEGIN:VEVENT
SUMMARY:Le monde des contrôleurs Buchla
DTSTART;TZID=America/Toronto;VALUE=DATE-TIME:20240213T133000
DTEND;TZID=America/Toronto;VALUE=DATE-TIME:20240213T180000
DTSTAMP;VALUE=DATE-TIME:20260421T092851Z
UID:f7087748aeb94a4daa37139f5a25c842@project_zeoclients
CONTACT:info[AT]cirmmt[DOT]org\, info@cirmmt.org
CREATED;VALUE=DATE-TIME:20240209T194512Z
DESCRIPTION:Cet atelier se concentrera sur les différents développements
  et idées de Donald Buchla (1947-2016) en matière de contrôleurs gestue
 ls\, d'interfaces musicales et d'instruments.
LAST-MODIFIED;VALUE=DATE-TIME:20240209T195417Z
LOCATION:A-832\, 8éme étage\, Pavillon de musique Elizabeth Wirth\, 527 
 Sherbrooke O.
URL:https://www.cirmmt.org/fr/events/workshops/research/buchla-controllers
 -workshop
END:VEVENT
BEGIN:VTIMEZONE
TZID:America/Toronto
X-LIC-LOCATION:America/Toronto
BEGIN:STANDARD
DTSTART;VALUE=DATE-TIME:20231105T010000
TZNAME:EST
TZOFFSETFROM:-0400
TZOFFSETTO:-0500
END:STANDARD
END:VTIMEZONE
END:VCALENDAR
