BEGIN:VCALENDAR
VERSION:2.0
PRODID:-//Plone.org//NONSGML plone.app.event//EN
X-WR-TIMEZONE:America/Toronto
BEGIN:VEVENT
SUMMARY:Causerie déjeuner techno: Sound technology in healthy and inclusi
 ve smart cities
DTSTART;TZID=America/Montreal;VALUE=DATE-TIME:20180509T074500
DTEND;TZID=America/Montreal;VALUE=DATE-TIME:20180509T093000
DTSTAMP;VALUE=DATE-TIME:20260421T163013Z
UID:cf729087f8e742eaa164a1725b10940a@project_zeoclients
CREATED;VALUE=DATE-TIME:20210321T220110Z
DESCRIPTION:This workshop is a collaboration between CIRMMT\, PROMPT and T
 echnoMontréal. It is free and open to all. Registration is required.
LAST-MODIFIED;VALUE=DATE-TIME:20210420T151233Z
LOCATION:A832\, Elizabeth Wirth Music Building\, 527 Sherbrooke St. West
URL:https://www.cirmmt.org/fr/events/workshops/research/causerie-dejeuner-
 techno-may2018/dej-techno-may2018
END:VEVENT
BEGIN:VTIMEZONE
TZID:America/Montreal
X-LIC-LOCATION:America/Montreal
BEGIN:DAYLIGHT
DTSTART;VALUE=DATE-TIME:20180311T030000
TZNAME:EDT
TZOFFSETFROM:-0500
TZOFFSETTO:-0400
END:DAYLIGHT
END:VTIMEZONE
END:VCALENDAR
