BEGIN:VCALENDAR
VERSION:2.0
PRODID:-//Plone.org//NONSGML plone.app.event//EN
X-WR-TIMEZONE:America/Toronto
BEGIN:VEVENT
SUMMARY:CIRMMT@UdeS : AGORA
DTSTART;TZID=America/Toronto;VALUE=DATE-TIME:20250314T100000
DTEND;TZID=America/Toronto;VALUE=DATE-TIME:20250314T180000
DTSTAMP;VALUE=DATE-TIME:20260420T122327Z
UID:8d11b48b66094b35958d40f48b1a5798@project_zeoclients
CONTACT:info[AROBASE]cirmmt[POINT]org
CREATED;VALUE=DATE-TIME:20250122T191858Z
DESCRIPTION:La deuxième édition de CIRMMT@UdeS aura lieu le 14 mars 2025
  et comprendra des visites\, des conférences et des démonstrations d'art
  et d'ingénierie impliquant la guitare et mettant en vedette la chercheus
 e/artiste Carolina Espinoza.
LAST-MODIFIED;VALUE=DATE-TIME:20250228T161032Z
LOCATION:Université de Sherbrooke\, 2500 Blvd de l'Université\, Sherbroo
 ke\, Québec J1K 2R1
URL:https://www.cirmmt.org/fr/events/workshops/research/cirmmt-udes-agora
END:VEVENT
BEGIN:VTIMEZONE
TZID:America/Toronto
X-LIC-LOCATION:America/Toronto
BEGIN:DAYLIGHT
DTSTART;VALUE=DATE-TIME:20250309T030000
TZNAME:EDT
TZOFFSETFROM:-0500
TZOFFSETTO:-0400
END:DAYLIGHT
END:VTIMEZONE
END:VCALENDAR
