BEGIN:VCALENDAR
VERSION:2.0
PRODID:-//Plone.org//NONSGML plone.app.event//EN
X-WR-TIMEZONE:America/Toronto
BEGIN:VEVENT
SUMMARY:Promouvoir l'inclusion musicale grâce à des conversations avec d
 es chercheurs en technologie musicale\, des personnes Sourdes et des artis
 tes CODA* [*Enfant d'un adulte Sourd]
DTSTART;TZID=America/Toronto;VALUE=DATE-TIME:20241101T130000
DTEND;TZID=America/Toronto;VALUE=DATE-TIME:20241101T160000
DTSTAMP;VALUE=DATE-TIME:20260421T094249Z
UID:cc57a499f3764aa894ebdd4c6ce0ea56@project_zeoclients
CONTACT:info[AT]cirmmt[DOT]org
CREATED;VALUE=DATE-TIME:20241003T151129Z
DESCRIPTION:Un événement organisé en collaboration avec l'axe de recher
 che 1 (Instruments\, dispositifs et systèmes) et l'axe de recherche 3 (Co
 gnition\, perception et mouvement) du CIRMMT.
LAST-MODIFIED;VALUE=DATE-TIME:20241017T160235Z
LOCATION:Salle A832 (8e étage)\, Pavillon de musique Elizabeth Wirth\, 52
 7 rue Sherbrooke Ouest.
URL:https://www.cirmmt.org/fr/events/workshops/research/coda-1-nov-2024
END:VEVENT
BEGIN:VTIMEZONE
TZID:America/Toronto
X-LIC-LOCATION:America/Toronto
BEGIN:DAYLIGHT
DTSTART;VALUE=DATE-TIME:20240310T030000
TZNAME:EDT
TZOFFSETFROM:-0500
TZOFFSETTO:-0400
END:DAYLIGHT
END:VTIMEZONE
END:VCALENDAR
