BEGIN:VCALENDAR
VERSION:2.0
PRODID:-//Plone.org//NONSGML plone.app.event//EN
X-WR-TIMEZONE:America/Toronto
BEGIN:VEVENT
SUMMARY:Atelier sur les fondements cognitifs de la hauteur\, du temps et d
 u timbre en musique
DTSTART;TZID=America/Toronto;VALUE=DATE-TIME:20221104T120000
DTEND;TZID=America/Toronto;VALUE=DATE-TIME:20221104T160000
DTSTAMP;VALUE=DATE-TIME:20260423T055155Z
UID:d67dda042b5b4ca7b00717cdb58dd6ce@project_zeoclients
CONTACT:info[AT]cirmmt.org
CREATED;VALUE=DATE-TIME:20221019T153741Z
DESCRIPTION:Un événement organisé en collaboration avec l'Axe de recher
 che 3 (Cognition\, perception et mouvement)
LAST-MODIFIED;VALUE=DATE-TIME:20221103T171202Z
LOCATION:A-832 (8e étage)\, 527 Sherbrooke O.
URL:https://www.cirmmt.org/fr/events/workshops/research/cognitive-foundati
 ons
END:VEVENT
BEGIN:VTIMEZONE
TZID:America/Toronto
X-LIC-LOCATION:America/Toronto
BEGIN:DAYLIGHT
DTSTART;VALUE=DATE-TIME:20220313T030000
TZNAME:EDT
TZOFFSETFROM:-0500
TZOFFSETTO:-0400
END:DAYLIGHT
END:VTIMEZONE
END:VCALENDAR
