BEGIN:VCALENDAR
VERSION:2.0
PRODID:-//Plone.org//NONSGML plone.app.event//EN
X-WR-TIMEZONE:America/Toronto
BEGIN:VEVENT
SUMMARY:Workshop: Composers: An endangered species?
DTSTART;TZID=America/Montreal;VALUE=DATE-TIME:20190227T100000
DTEND;TZID=America/Montreal;VALUE=DATE-TIME:20190227T180000
DTSTAMP;VALUE=DATE-TIME:20260421T145226Z
UID:19635b3aa2e743ec80c9201e585193ad@project_zeoclients
CREATED;VALUE=DATE-TIME:20210321T220112Z
DESCRIPTION:This study day is part of the Montréal/Nouvelles Musiques 9th
  edition\, and is organized by matralab (Concordia University) in collabor
 ation with CIRMMT's RA4\, the Sociéte Québecoise de Recherche en Musique
 \, and the SMCQ with support from the Social Sciences and Humanities Resea
 rch Council of Canada and the Fonds de Recherche de Québec - Société et
  Culture.
LAST-MODIFIED;VALUE=DATE-TIME:20210420T151234Z
LOCATION: Agora Hydro Quebec\, La Chaufferie\,  175\, avenue du Président
 -Kennedy (métro Place-des-Arts)
URL:https://www.cirmmt.org/fr/events/workshops/research/composers/ra4-comp
 osers
END:VEVENT
BEGIN:VTIMEZONE
TZID:America/Montreal
X-LIC-LOCATION:America/Montreal
BEGIN:STANDARD
DTSTART;VALUE=DATE-TIME:20181104T010000
TZNAME:EST
TZOFFSETFROM:-0400
TZOFFSETTO:-0500
END:STANDARD
END:VTIMEZONE
END:VCALENDAR
