BEGIN:VCALENDAR
VERSION:2.0
PRODID:-//Plone.org//NONSGML plone.app.event//EN
X-WR-TIMEZONE:America/Toronto
BEGIN:VEVENT
SUMMARY:Composing (with) Moving Sounds: an Interdisciplinary Perspective
DTSTART;TZID=America/Montreal;VALUE=DATE-TIME:20170222T090000
DTEND;TZID=America/Montreal;VALUE=DATE-TIME:20170222T173000
DTSTAMP;VALUE=DATE-TIME:20260421T180028Z
UID:ecf74056b1864595a75b39ca8f309e6e@project_zeoclients
CREATED;VALUE=DATE-TIME:20210321T220112Z
DESCRIPTION:This CIRMMT Research Workshop is co-organized by CIRMMT Resear
 ch Axis 3 - Cognition\, Perception\, and Movement and CIRMMT Research Axis
  4 - Expanded Musical Practice. Free Admission. No Registration Required.\
 n\nCo-organized by François-Xavier Féron and Catherine Guastavino.
LAST-MODIFIED;VALUE=DATE-TIME:20210420T151108Z
LOCATION:A832\, Elizabeth Wirth Music Building
URL:https://www.cirmmt.org/fr/events/workshops/research/composing-with-mov
 ing-sounds-an-interdisciplinary-perspective
END:VEVENT
BEGIN:VTIMEZONE
TZID:America/Montreal
X-LIC-LOCATION:America/Montreal
BEGIN:STANDARD
DTSTART;VALUE=DATE-TIME:20161106T010000
TZNAME:EST
TZOFFSETFROM:-0400
TZOFFSETTO:-0500
END:STANDARD
END:VTIMEZONE
END:VCALENDAR
