BEGIN:VCALENDAR
VERSION:2.0
PRODID:-//Plone.org//NONSGML plone.app.event//EN
X-WR-TIMEZONE:America/Toronto
BEGIN:VEVENT
SUMMARY:Workshop on digital musicology
DTSTART;TZID=America/Montreal;VALUE=DATE-TIME:20180427T093000
DTEND;TZID=America/Montreal;VALUE=DATE-TIME:20180427T130000
DTSTAMP;VALUE=DATE-TIME:20260421T163328Z
UID:069e85fa7a154add9a1eaaaa91c73a5d@project_zeoclients
CREATED;VALUE=DATE-TIME:20210321T220113Z
DESCRIPTION:A Research Axis 2 (Music information retrieval) workshop. This
  workshop is free and open to all.
LAST-MODIFIED;VALUE=DATE-TIME:20210420T151235Z
LOCATION:A832 & A833\, Elizabeth Wirth Music Building\, 527 Sherbrooke St.
  West
URL:https://www.cirmmt.org/fr/events/workshops/research/digital-musicology
 /ra2-digital-musicology
END:VEVENT
BEGIN:VTIMEZONE
TZID:America/Montreal
X-LIC-LOCATION:America/Montreal
BEGIN:DAYLIGHT
DTSTART;VALUE=DATE-TIME:20180311T030000
TZNAME:EDT
TZOFFSETFROM:-0500
TZOFFSETTO:-0400
END:DAYLIGHT
END:VTIMEZONE
END:VCALENDAR
