BEGIN:VCALENDAR
VERSION:2.0
PRODID:-//Plone.org//NONSGML plone.app.event//EN
X-WR-TIMEZONE:America/Toronto
BEGIN:VEVENT
SUMMARY:Atelier & masterclass sur la lutherie numérique et la conception 
 d'instruments augmentés
DTSTART;TZID=America/Toronto;VALUE=DATE-TIME:20220912T103000
DTEND;TZID=America/Toronto;VALUE=DATE-TIME:20220912T143000
DTSTAMP;VALUE=DATE-TIME:20260421T122255Z
UID:dd5ef7218047470ba2d5c4ff097d9d7a@project_zeoclients
CONTACT:info [AROBAS] cirmmt.org
CREATED;VALUE=DATE-TIME:20220707T174237Z
DESCRIPTION:Un événement organisé en collaboration avec l'axe de recher
 che 3 (Cognition\, perception et mouvement) et 4 (Pratique musicale élarg
 ie).
LAST-MODIFIED;VALUE=DATE-TIME:20220907T182058Z
LOCATION:A832\, 527 rue Sherbrooke O.
URL:https://www.cirmmt.org/fr/events/workshops/research/digital_lutherie_w
 orkshop
END:VEVENT
BEGIN:VTIMEZONE
TZID:America/Toronto
X-LIC-LOCATION:America/Toronto
BEGIN:DAYLIGHT
DTSTART;VALUE=DATE-TIME:20220313T030000
TZNAME:EDT
TZOFFSETFROM:-0500
TZOFFSETTO:-0400
END:DAYLIGHT
END:VTIMEZONE
END:VCALENDAR
