BEGIN:VCALENDAR
VERSION:2.0
PRODID:-//Plone.org//NONSGML plone.app.event//EN
X-WR-TIMEZONE:America/Toronto
BEGIN:VEVENT
SUMMARY:Atelier: Le meilleur des mondes haptiques
DTSTART;TZID=America/Toronto;VALUE=DATE-TIME:20241018T083000
DTEND;TZID=America/Toronto;VALUE=DATE-TIME:20241018T120000
DTSTAMP;VALUE=DATE-TIME:20260421T094202Z
UID:925805e4a2354626a06a30eda87dcaa7@project_zeoclients
CONTACT:info[AROBASE]cirmmt[POINT]org
CREATED;VALUE=DATE-TIME:20241010T143555Z
DESCRIPTION:Un atelier sur les applications éthiques des technologies hap
 tiques organisé par Les Entretiens Jacques Cartier en collaboration avec 
 le CIRMMT.
LAST-MODIFIED;VALUE=DATE-TIME:20250415T135741Z
LOCATION:Salle A-832 (8ème étage)\, Pavillon de musique Elizabeth Wirth\
 , 527 rue Sherbrooke O.
URL:https://www.cirmmt.org/fr/events/workshops/research/ejc-18-0ct-2024
END:VEVENT
BEGIN:VTIMEZONE
TZID:America/Toronto
X-LIC-LOCATION:America/Toronto
BEGIN:DAYLIGHT
DTSTART;VALUE=DATE-TIME:20240310T030000
TZNAME:EDT
TZOFFSETFROM:-0500
TZOFFSETTO:-0400
END:DAYLIGHT
END:VTIMEZONE
END:VCALENDAR
