BEGIN:VCALENDAR
VERSION:2.0
PRODID:-//Plone.org//NONSGML plone.app.event//EN
X-WR-TIMEZONE:America/Toronto
BEGIN:VEVENT
SUMMARY:Entrepreneurship for researchers 2020
DTSTART;TZID=America/Montreal;VALUE=DATE-TIME:20200311T090000
DTEND;TZID=America/Montreal;VALUE=DATE-TIME:20200311T170000
DTSTAMP;VALUE=DATE-TIME:20260421T132444Z
UID:32b50dbd6fc440c496199ce84b75f5db@project_zeoclients
CREATED;VALUE=DATE-TIME:20210321T220115Z
DESCRIPTION:A workshop presented in collaboration with the Centre for Rese
 arch on Brain\, Language and Music (CRBLM)\, McGill Engineering Innovation
  and Entrepreneurship (ENGINE)\, and Healthy Brains Healthy Lives (HBHL).
LAST-MODIFIED;VALUE=DATE-TIME:20210420T151109Z
LOCATION:Room A832\, Elizabeth Wirth Music Building\, 527 Sherbrooke St. W
 .
URL:https://www.cirmmt.org/fr/events/workshops/research/entrepreneurship_2
 020
END:VEVENT
BEGIN:VTIMEZONE
TZID:America/Montreal
X-LIC-LOCATION:America/Montreal
BEGIN:DAYLIGHT
DTSTART;VALUE=DATE-TIME:20200308T030000
TZNAME:EDT
TZOFFSETFROM:-0500
TZOFFSETTO:-0400
END:DAYLIGHT
END:VTIMEZONE
END:VCALENDAR
