BEGIN:VCALENDAR
VERSION:2.0
PRODID:-//Plone.org//NONSGML plone.app.event//EN
X-WR-TIMEZONE:America/Toronto
BEGIN:VEVENT
SUMMARY:Symposium on Force Feedback and Music
DTSTART;TZID=America/Montreal;VALUE=DATE-TIME:20161209T090000
DTEND;TZID=America/Montreal;VALUE=DATE-TIME:20161210T170000
DTSTAMP;VALUE=DATE-TIME:20260421T175027Z
UID:3b51dd75ffeb4ea89c81229304f1ea09@project_zeoclients
CREATED;VALUE=DATE-TIME:20210225T161941Z
DESCRIPTION:This CIRMMT Symposium is organized and sponsored by the Input 
 Devices and Music Interaction Laboratory in collaboration with CIRMMT Rese
 arch Axis 1 - Instruments\, devices\, and systems -\, Research Axis 3 - Co
 gnition\, Perception and Movement -\, and the INRIA-FRQNT MIDWAY "équipes
  de recherche associées"- It will take place on Friday and Saturday\, Dec
 ember 9th and 10th 2016\, in room A-832 (Elizabeth Wirth\, New Music Build
 ing). \nThis symposium is free and open to all\, REGISTRATION is mandatory
 .\n
LAST-MODIFIED;VALUE=DATE-TIME:20220211T190850Z
LOCATION:Room A-832. Elizabeth Wirth\, New Music Building\, 527 Sherbrooke
  St. West.
URL:https://www.cirmmt.org/fr/events/workshops/research/ffedback_music
END:VEVENT
BEGIN:VTIMEZONE
TZID:America/Montreal
X-LIC-LOCATION:America/Montreal
BEGIN:STANDARD
DTSTART;VALUE=DATE-TIME:20161106T010000
TZNAME:EST
TZOFFSETFROM:-0400
TZOFFSETTO:-0500
END:STANDARD
END:VTIMEZONE
END:VCALENDAR
