BEGIN:VCALENDAR
VERSION:2.0
PRODID:-//Plone.org//NONSGML plone.app.event//EN
X-WR-TIMEZONE:America/Toronto
BEGIN:VEVENT
SUMMARY:Workshop on gamification
DTSTART;TZID=America/Montreal;VALUE=DATE-TIME:20190412T173000
DTEND;TZID=America/Montreal;VALUE=DATE-TIME:20190412T193000
DTSTAMP;VALUE=DATE-TIME:20260421T145005Z
UID:a042513b527c47daa8b2343e7fd06e25@project_zeoclients
CREATED;VALUE=DATE-TIME:20210321T220117Z
DESCRIPTION:A workshop presented by Research Axis 4 (Expanded music practi
 ce).
LAST-MODIFIED;VALUE=DATE-TIME:20210420T151236Z
LOCATION:A025 Wirth Opera Studio\, Elizabeth Wirth Music Building\, 527 Sh
 erbrooke St W
URL:https://www.cirmmt.org/fr/events/workshops/research/gamification/works
 hop
END:VEVENT
BEGIN:VTIMEZONE
TZID:America/Montreal
X-LIC-LOCATION:America/Montreal
BEGIN:DAYLIGHT
DTSTART;VALUE=DATE-TIME:20190310T030000
TZNAME:EDT
TZOFFSETFROM:-0500
TZOFFSETTO:-0400
END:DAYLIGHT
END:VTIMEZONE
END:VCALENDAR
