BEGIN:VCALENDAR
VERSION:2.0
PRODID:-//Plone.org//NONSGML plone.app.event//EN
X-WR-TIMEZONE:America/Toronto
BEGIN:VEVENT
SUMMARY:Qui/quoi peut diriger notre attention à l'ère des appareils audi
 tifs omniprésents ?
DTSTART;TZID=America/Toronto;VALUE=DATE-TIME:20231212T120000
DTEND;TZID=America/Toronto;VALUE=DATE-TIME:20231212T143000
DTSTAMP;VALUE=DATE-TIME:20260421T110919Z
UID:ebc3bc977a7b4269bb0080c236e30bd7@project_zeoclients
CONTACT:info[AT]cirmmt[DOT]org\, info@cirmmt.org
CREATED;VALUE=DATE-TIME:20231127T164337Z
DESCRIPTION:Après la conférence du Dr. Gershon Dublon du 11 décembre\, 
 cet atelier\, organisé par le CIRMMT RA1\, vise à rassembler les cherche
 ur·rice·s en audio\, réalité mixte et HCI.
LAST-MODIFIED;VALUE=DATE-TIME:20231127T174830Z
LOCATION:A-832\, 8éme étage\, Pavillon de musique Elizabeth Wirth\, 527 
 Sherbrooke O.
URL:https://www.cirmmt.org/fr/events/workshops/research/gershon-dublon-wor
 kshop
END:VEVENT
BEGIN:VTIMEZONE
TZID:America/Toronto
X-LIC-LOCATION:America/Toronto
BEGIN:STANDARD
DTSTART;VALUE=DATE-TIME:20231105T010000
TZNAME:EST
TZOFFSETFROM:-0400
TZOFFSETTO:-0500
END:STANDARD
END:VTIMEZONE
END:VCALENDAR
