BEGIN:VCALENDAR
VERSION:2.0
PRODID:-//Plone.org//NONSGML plone.app.event//EN
X-WR-TIMEZONE:America/Toronto
BEGIN:VEVENT
SUMMARY:Workshop on headphones: technologies\, devices\, and applications
DTSTART;TZID=America/Montreal;VALUE=DATE-TIME:20170419T133000
DTEND;TZID=America/Montreal;VALUE=DATE-TIME:20170419T163000
DTSTAMP;VALUE=DATE-TIME:20260421T164405Z
UID:d9fd368747dc4ec2bd953108f151fb6b@project_zeoclients
CREATED;VALUE=DATE-TIME:20210321T220118Z
DESCRIPTION:CIRMMT RA1 Workshop. This workshop will feature 21x21 style pr
 esentations in one unique session. Registration is required. 
LAST-MODIFIED;VALUE=DATE-TIME:20210420T151237Z
LOCATION:A832\, Elizabeth Wirth Music Building\, 527 Sherbrooke St W
URL:https://www.cirmmt.org/fr/events/workshops/research/headphones-worksho
 p/Event
END:VEVENT
BEGIN:VTIMEZONE
TZID:America/Montreal
X-LIC-LOCATION:America/Montreal
BEGIN:DAYLIGHT
DTSTART;VALUE=DATE-TIME:20170312T030000
TZNAME:EDT
TZOFFSETFROM:-0500
TZOFFSETTO:-0400
END:DAYLIGHT
END:VTIMEZONE
END:VCALENDAR
