BEGIN:VCALENDAR
VERSION:2.0
PRODID:-//Plone.org//NONSGML plone.app.event//EN
X-WR-TIMEZONE:America/Toronto
BEGIN:VEVENT
SUMMARY:IAM-CIRMMT series\, #11: The voice performance challenge
DTSTART;TZID=America/Montreal;VALUE=DATE-TIME:20191114T180000
DTEND;TZID=America/Montreal;VALUE=DATE-TIME:20191114T203000
DTSTAMP;VALUE=DATE-TIME:20260421T134403Z
UID:db297887744b451ba2fa0d5951f2ce8d@project_zeoclients
CREATED;VALUE=DATE-TIME:20210321T220121Z
DESCRIPTION:This workshop is a collaboration between CIRMMT (RA1 - Instrum
 ents\, devices and systems) and Interactive Audio Montreal. It is free and
  open to all. Registration will be required.
LAST-MODIFIED;VALUE=DATE-TIME:20210420T151238Z
LOCATION:A832/833\, Elizabeth Wirth Music Building\, 527 Sherbrooke St W
URL:https://www.cirmmt.org/fr/events/workshops/research/iam-11-nov14/iam10
END:VEVENT
BEGIN:VTIMEZONE
TZID:America/Montreal
X-LIC-LOCATION:America/Montreal
BEGIN:STANDARD
DTSTART;VALUE=DATE-TIME:20191103T010000
TZNAME:EST
TZOFFSETFROM:-0400
TZOFFSETTO:-0500
END:STANDARD
END:VTIMEZONE
END:VCALENDAR
