BEGIN:VCALENDAR
VERSION:2.0
PRODID:-//Plone.org//NONSGML plone.app.event//EN
X-WR-TIMEZONE:America/Toronto
BEGIN:VEVENT
SUMMARY:IAM@CIRMMT#33—L'audio de Lynked Banner of the Spark : créer l'a
 mbiance sonore d'une apocalypse ambitieuse
DTSTART;TZID=America/Toronto;VALUE=DATE-TIME:20251016T180000
DTEND;TZID=America/Toronto;VALUE=DATE-TIME:20251016T210000
DTSTAMP;VALUE=DATE-TIME:20260421T081525Z
UID:8a79e399960f40c089fb51be471c660b@project_zeoclients
CONTACT:info [AROBASE] cirmmt [POINT] org
CREATED;VALUE=DATE-TIME:20250925T130415Z
DESCRIPTION:Un atelier présenté par Montréal Audio Interactive (MAI) en
  collaboration avec le CIRMMT
LAST-MODIFIED;VALUE=DATE-TIME:20250925T131425Z
LOCATION:A832 (8 étage)\, Pavillon de musique Elizabeth Schulich\, 527\, 
 Sherbrooke O
URL:https://www.cirmmt.org/fr/events/workshops/research/iam-16-oct-2025
END:VEVENT
BEGIN:VTIMEZONE
TZID:America/Toronto
X-LIC-LOCATION:America/Toronto
BEGIN:DAYLIGHT
DTSTART;VALUE=DATE-TIME:20250309T030000
TZNAME:EDT
TZOFFSETFROM:-0500
TZOFFSETTO:-0400
END:DAYLIGHT
END:VTIMEZONE
END:VCALENDAR
