BEGIN:VCALENDAR
VERSION:2.0
PRODID:-//Plone.org//NONSGML plone.app.event//EN
X-WR-TIMEZONE:America/Toronto
BEGIN:VEVENT
SUMMARY:IAM@CIRMMT#32 : Table ronde — Dans le cadre du son : travailler 
 l'immersion dans l'audio des jeux de vidéo
DTSTART;TZID=America/Toronto;VALUE=DATE-TIME:20250918T180000
DTEND;TZID=America/Toronto;VALUE=DATE-TIME:20250918T210000
DTSTAMP;VALUE=DATE-TIME:20260423T042504Z
UID:e68dc7a8323b480ab4eee7abdea6269c@project_zeoclients
CONTACT:info [AROBASE] interactivemontreal [POINT] com\, https://www.inter
 activeaudiomontreal.com/fr/evenements
CREATED;VALUE=DATE-TIME:20250829T153107Z
DESCRIPTION:Un atelier présenté par Interactive Audio Montréal en colla
 boration avec le CIRMMT
LAST-MODIFIED;VALUE=DATE-TIME:20250908T185039Z
LOCATION:A832 (8 étage)\, Pavillon de musique Elizabeth Schulich\, 527\, 
 Sherbrooke O
URL:https://www.cirmmt.org/fr/events/workshops/research/iam-18-sep-2025
END:VEVENT
BEGIN:VTIMEZONE
TZID:America/Toronto
X-LIC-LOCATION:America/Toronto
BEGIN:DAYLIGHT
DTSTART;VALUE=DATE-TIME:20250309T030000
TZNAME:EDT
TZOFFSETFROM:-0500
TZOFFSETTO:-0400
END:DAYLIGHT
END:VTIMEZONE
END:VCALENDAR
