BEGIN:VCALENDAR
VERSION:2.0
PRODID:-//Plone.org//NONSGML plone.app.event//EN
X-WR-TIMEZONE:America/Toronto
BEGIN:VEVENT
SUMMARY:IAM@CIRMMT#31 : Design sonore émotionnel et Les Sims
DTSTART;TZID=America/Toronto;VALUE=DATE-TIME:20250626T180000
DTEND;TZID=America/Toronto;VALUE=DATE-TIME:20250626T210000
DTSTAMP;VALUE=DATE-TIME:20260421T111035Z
UID:7c8940086f744a4a94d9bfd7c2b77125@project_zeoclients
CONTACT:info [AROBASE] interactivemontreal [POINT] com\, https://www.inter
 activeaudiomontreal.com/fr/evenements/iam-cirmmt-31-design-sonore-emotionn
 el-et-les-sims
CREATED;VALUE=DATE-TIME:20250522T152736Z
DESCRIPTION:Cet atelier est présenté dans le cadre d'une collaboration e
 ntre Montréal Audio Interactif et le CIRMMT
LAST-MODIFIED;VALUE=DATE-TIME:20250604T153613Z
LOCATION:A832 (8 étage)\, Pavillon de musique Elizabeth Schulich\, 527\, 
 Sherbrooke O
URL:https://www.cirmmt.org/fr/events/workshops/research/iam-26-jun-2025
END:VEVENT
BEGIN:VTIMEZONE
TZID:America/Toronto
X-LIC-LOCATION:America/Toronto
BEGIN:DAYLIGHT
DTSTART;VALUE=DATE-TIME:20250309T030000
TZNAME:EDT
TZOFFSETFROM:-0500
TZOFFSETTO:-0400
END:DAYLIGHT
END:VTIMEZONE
END:VCALENDAR
