BEGIN:VCALENDAR
VERSION:2.0
PRODID:-//Plone.org//NONSGML plone.app.event//EN
X-WR-TIMEZONE:America/Toronto
BEGIN:VEVENT
SUMMARY:IAM@CIRMMT#29 – VO et systèmes de jeu : une exploration
DTSTART;TZID=America/Toronto;VALUE=DATE-TIME:20250227T180000
DTEND;TZID=America/Toronto;VALUE=DATE-TIME:20250227T230000
DTSTAMP;VALUE=DATE-TIME:20260421T094303Z
UID:227b62de46e949f59e50544f2da12306@project_zeoclients
CONTACT:info[AROBASE]interactiveaudio[POINT]com
CREATED;VALUE=DATE-TIME:20250124T164305Z
DESCRIPTION:Dani Kogan présente les systèmes de VO et de jeu
LAST-MODIFIED;VALUE=DATE-TIME:20250124T185736Z
LOCATION:A832 (8 étage)\, Pavillon de musique Elizabeth Schulich\, 527\, 
 Sherbrooke O
URL:https://www.cirmmt.org/fr/events/workshops/research/iam-27-feb-2025
END:VEVENT
BEGIN:VTIMEZONE
TZID:America/Toronto
X-LIC-LOCATION:America/Toronto
BEGIN:STANDARD
DTSTART;VALUE=DATE-TIME:20241103T010000
TZNAME:EST
TZOFFSETFROM:-0400
TZOFFSETTO:-0500
END:STANDARD
END:VTIMEZONE
END:VCALENDAR
