BEGIN:VCALENDAR
VERSION:2.0
PRODID:-//Plone.org//NONSGML plone.app.event//EN
X-WR-TIMEZONE:America/Toronto
BEGIN:VEVENT
SUMMARY:IAM-CIRMMT series\, #8: Gameloft - Creating sound for mobile games
DTSTART;TZID=America/Montreal;VALUE=DATE-TIME:20190404T180000
DTEND;TZID=America/Montreal;VALUE=DATE-TIME:20190404T203000
DTSTAMP;VALUE=DATE-TIME:20260421T145449Z
UID:795438171b3a4898b3f3801e636a2b36@project_zeoclients
CREATED;VALUE=DATE-TIME:20210321T220122Z
DESCRIPTION:This workshop is a collaboration between CIRMMT (RA1 - Instrum
 ents\, devices and systems) and Interactive Audio Montreal. It is free and
  open to all. Registration will be required.
LAST-MODIFIED;VALUE=DATE-TIME:20210420T151239Z
LOCATION:A832/833\, Elizabeth Wirth Music Building\, 527 Sherbrooke St W
URL:https://www.cirmmt.org/fr/events/workshops/research/iam-8-mar14/iam8
END:VEVENT
BEGIN:VTIMEZONE
TZID:America/Montreal
X-LIC-LOCATION:America/Montreal
BEGIN:DAYLIGHT
DTSTART;VALUE=DATE-TIME:20190310T030000
TZNAME:EDT
TZOFFSETFROM:-0500
TZOFFSETTO:-0400
END:DAYLIGHT
END:VTIMEZONE
END:VCALENDAR
