BEGIN:VCALENDAR
VERSION:2.0
PRODID:-//Plone.org//NONSGML plone.app.event//EN
X-WR-TIMEZONE:America/Toronto
BEGIN:VEVENT
SUMMARY:Série IAM-CIRMMT #14 - Composition et conception sonore d'un jeu 
 humoristique - Tous les secrets révélés
DTSTART;TZID=America/Toronto;VALUE=DATE-TIME:20220512T180000
DTEND;TZID=America/Toronto;VALUE=DATE-TIME:20220512T200000
DTSTAMP;VALUE=DATE-TIME:20260421T121726Z
UID:cb7a89bd57974677bbb811e601dc422d@project_zeoclients
CONTACT:cirmmt.info [AROBAS] mcgill.ca
CREATED;VALUE=DATE-TIME:20220328T172053Z
DESCRIPTION:Cet atelier est une collaboration entre le CIRMMT (AR1 - Instr
 uments\, dispositifs et systèmes) et Interactive Audio Montreal)\, avec u
 ne conférence de Léandre Monette\, un compositeur montréalais spéciali
 sé dans les jeux vidéo.
LAST-MODIFIED;VALUE=DATE-TIME:20220330T163503Z
LOCATION:A-832\, (8e étage)\, Pavillon de musique Elizabeth Wirth\, 527 R
 ue Sherbrooke Ouest
URL:https://www.cirmmt.org/fr/events/workshops/research/iam-cirmmt-14
END:VEVENT
BEGIN:VTIMEZONE
TZID:America/Toronto
X-LIC-LOCATION:America/Toronto
BEGIN:DAYLIGHT
DTSTART;VALUE=DATE-TIME:20220313T030000
TZNAME:EDT
TZOFFSETFROM:-0500
TZOFFSETTO:-0400
END:DAYLIGHT
END:VTIMEZONE
END:VCALENDAR
