BEGIN:VCALENDAR
VERSION:2.0
PRODID:-//Plone.org//NONSGML plone.app.event//EN
X-WR-TIMEZONE:America/Toronto
BEGIN:VEVENT
SUMMARY:Série IAM-CIRMMT #15 - La musique de Rainbow Six Extraction : blo
 cs constructeur pour créer un environment musical évolutif
DTSTART;TZID=America/Toronto;VALUE=DATE-TIME:20220616T180000
DTEND;TZID=America/Toronto;VALUE=DATE-TIME:20220616T203000
DTSTAMP;VALUE=DATE-TIME:20260421T121826Z
UID:ec161640789a4e57a8c874ea339622cd@project_zeoclients
CONTACT:info [AT] cirmmt.org
CREATED;VALUE=DATE-TIME:20220525T160345Z
DESCRIPTION:Cet atelier est une collaboration entre le CIRMMT (AR1 - Instr
 uments\, dispositifs et systèmes) et Interactive Audio Montreal)\, avec u
 ne conférence de Vincent Gagnon - Directeur Audio chez Ubisoft.
LAST-MODIFIED;VALUE=DATE-TIME:20220525T160444Z
LOCATION:A-832\, 8e étage\, 527 rue Sherbrooke Ouest
URL:https://www.cirmmt.org/fr/events/workshops/research/iam-cirmmt-15
END:VEVENT
BEGIN:VTIMEZONE
TZID:America/Toronto
X-LIC-LOCATION:America/Toronto
BEGIN:DAYLIGHT
DTSTART;VALUE=DATE-TIME:20220313T030000
TZNAME:EDT
TZOFFSETFROM:-0500
TZOFFSETTO:-0400
END:DAYLIGHT
END:VTIMEZONE
END:VCALENDAR
