BEGIN:VCALENDAR
VERSION:2.0
PRODID:-//Plone.org//NONSGML plone.app.event//EN
X-WR-TIMEZONE:America/Toronto
BEGIN:VEVENT
SUMMARY:Série IAM-CIRMMT #16 - 1er Derby annuel de démonstrations audio 
 interactives
DTSTART;TZID=America/Toronto;VALUE=DATE-TIME:20221201T180000
DTEND;TZID=America/Toronto;VALUE=DATE-TIME:20221201T210000
DTSTAMP;VALUE=DATE-TIME:20260421T122944Z
UID:32373f283e1748658829ef53703f694b@project_zeoclients
CONTACT:info [AT] cirmmt.org
CREATED;VALUE=DATE-TIME:20221107T185704Z
DESCRIPTION:Cet atelier est une collaboration entre le CIRMMT (AR1 - Instr
 uments\, dispositifs et systèmes) et Montréal Audio Interactif
LAST-MODIFIED;VALUE=DATE-TIME:20221107T191741Z
LOCATION:A-832 (8e étage)\, 527 Sherbrooke O.
URL:https://www.cirmmt.org/fr/events/workshops/research/iam-cirmmt-16
END:VEVENT
BEGIN:VTIMEZONE
TZID:America/Toronto
X-LIC-LOCATION:America/Toronto
BEGIN:STANDARD
DTSTART;VALUE=DATE-TIME:20221106T010000
TZNAME:EST
TZOFFSETFROM:-0400
TZOFFSETTO:-0500
END:STANDARD
END:VTIMEZONE
END:VCALENDAR
