BEGIN:VCALENDAR
VERSION:2.0
PRODID:-//Plone.org//NONSGML plone.app.event//EN
X-WR-TIMEZONE:America/Toronto
BEGIN:VEVENT
SUMMARY:MAI-CIRMMT série #18 Les contes audio de New Tales from the Borde
 rlands
DTSTART;TZID=America/Toronto;VALUE=DATE-TIME:20230608T170000
DTEND;TZID=America/Toronto;VALUE=DATE-TIME:20230608T223000
DTSTAMP;VALUE=DATE-TIME:20260421T122943Z
UID:6df0d9b3cda740b1b0b91366cbb6ad4e@project_zeoclients
ATTENDEE;CN="Antoine Guertin, Audio Designer";ROLE=REQ-PARTICIPANT:Antoine
  Guertin, Audio Designer
ATTENDEE;CN="Christian Pacaud, Audio Designer & Composer";ROLE=REQ-PARTICI
 PANT:Christian Pacaud, Audio Designer & Composer
ATTENDEE;CN="Jonathan Magnan, Audio Director";ROLE=REQ-PARTICIPANT:Jonatha
 n Magnan, Audio Director
CONTACT:info [AT] interactiveaudiomontreal [DOT] com\, http://www.interact
 iveaudiomontreal.com/
CREATED;VALUE=DATE-TIME:20230519T172312Z
DESCRIPTION:Comment Gearbox Studio - la petite équipe audio du Québec - 
 a dû s'adapter\, apprendre et collaborer pour créer les sons et la musiq
 ue du jeu interactif narratif New Tales from the Borderlands. Cet atelier 
 est une collaboration entre le CIRMMT (RA1 - Instruments\, dispositifs et 
 systèmes) et Montreal Audio Interactif.
LAST-MODIFIED;VALUE=DATE-TIME:20230519T181506Z
LOCATION:A-832 (8ème étage)\, 527 rue Sherbrooke O\, Montreal\, QC H3A 1
 E3
URL:https://www.cirmmt.org/fr/events/workshops/research/iam-cirmmt-18
END:VEVENT
BEGIN:VTIMEZONE
TZID:America/Toronto
X-LIC-LOCATION:America/Toronto
BEGIN:DAYLIGHT
DTSTART;VALUE=DATE-TIME:20230312T030000
TZNAME:EDT
TZOFFSETFROM:-0500
TZOFFSETTO:-0400
END:DAYLIGHT
END:VTIMEZONE
END:VCALENDAR
