BEGIN:VCALENDAR
VERSION:2.0
PRODID:-//Plone.org//NONSGML plone.app.event//EN
X-WR-TIMEZONE:America/Toronto
BEGIN:VEVENT
SUMMARY:IAM@CIRMMT #19 - Viviana Caro (EA): Skate's Ambiance System: on tr
 availle là dessus
DTSTART;TZID=America/Toronto;VALUE=DATE-TIME:20230921T183000
DTEND;TZID=America/Toronto;VALUE=DATE-TIME:20230921T223000
DTSTAMP;VALUE=DATE-TIME:20260421T111033Z
UID:174ec9e4f04245738cea201c23577742@project_zeoclients
CONTACT:Montréal Audio Interactif\, info@interactiveaudiomontreal.com\, h
 ttps://www.interactiveaudiomontreal.com/fr/evenements/iam-cirmmt-19-vivian
 a-caro
CREATED;VALUE=DATE-TIME:20230830T183020Z
LAST-MODIFIED;VALUE=DATE-TIME:20231016T172835Z
LOCATION:A-832\, 8éme étage\, Pavillon de musique Elizabeth Wirth\, 527 
 Sherbrooke O.
URL:https://www.cirmmt.org/fr/events/workshops/research/iam-cirmmt-19
END:VEVENT
BEGIN:VTIMEZONE
TZID:America/Toronto
X-LIC-LOCATION:America/Toronto
BEGIN:DAYLIGHT
DTSTART;VALUE=DATE-TIME:20230312T030000
TZNAME:EDT
TZOFFSETFROM:-0500
TZOFFSETTO:-0400
END:DAYLIGHT
END:VTIMEZONE
END:VCALENDAR
