BEGIN:VCALENDAR
VERSION:2.0
PRODID:-//Plone.org//NONSGML plone.app.event//EN
X-WR-TIMEZONE:America/Toronto
BEGIN:VEVENT
SUMMARY:IAM@CIRMMT#21 - Derniers développements en matière de recherche 
 sur la parole et l'audio pour les jeux vidéo chez Ubisoft
DTSTART;TZID=America/Toronto;VALUE=DATE-TIME:20231123T180000
DTEND;TZID=America/Toronto;VALUE=DATE-TIME:20231123T220000
DTSTAMP;VALUE=DATE-TIME:20260421T112516Z
UID:78c63b360d3843aeab11b4008b8c287c@project_zeoclients
CONTACT:Montréal Audio Intéractif\, info@interactiveaudiomontreal.com\, 
 https://www.interactiveaudiomontreal.com/fr/evenements/iam-cirmmt-21-derni
 ers-developpements-en-matiere-de-recherche-sur-la-parole-et-l-audio-pour-l
 es-jeux-video-chez-ubisoft
CREATED;VALUE=DATE-TIME:20231031T164347Z
DESCRIPTION:Cette présentation passe en revue différentes nouvelles tech
 nologies liées au son et à la parole dans les jeux vidéo. Elle présent
 e une série d'innovations internes issues du laboratoire de recherche La 
 Forge d'Ubisoft.
LAST-MODIFIED;VALUE=DATE-TIME:20231031T180107Z
URL:https://www.cirmmt.org/fr/events/workshops/research/iam-cirmmt-21
END:VEVENT
BEGIN:VTIMEZONE
TZID:America/Toronto
X-LIC-LOCATION:America/Toronto
BEGIN:STANDARD
DTSTART;VALUE=DATE-TIME:20231105T010000
TZNAME:EST
TZOFFSETFROM:-0400
TZOFFSETTO:-0500
END:STANDARD
END:VTIMEZONE
END:VCALENDAR
