BEGIN:VCALENDAR
VERSION:2.0
PRODID:-//Plone.org//NONSGML plone.app.event//EN
X-WR-TIMEZONE:America/Toronto
BEGIN:VEVENT
SUMMARY:IAM@CIRMMT #23: Behaviour Interactif
DTSTART;TZID=America/Toronto;VALUE=DATE-TIME:20240222T180000
DTEND;TZID=America/Toronto;VALUE=DATE-TIME:20240222T220000
DTSTAMP;VALUE=DATE-TIME:20260421T122943Z
UID:7192b206bfe64783bdedd6b3d20b6f3b@project_zeoclients
CONTACT:info[AT]interactiveaudiomontreal[DOT]com\, info@interactiveaudiomo
 ntreal.com\, https://www.interactiveaudiomontreal.com/fr/evenements/iam-ci
 rmmt-23-behaviour-interactive
CREATED;VALUE=DATE-TIME:20240209T200937Z
DESCRIPTION:Les défis du développement de l'audio pour jeux en direct su
 r Dead by Daylight\, dont l'équipe audio gère constamment du nouveau con
 tenu et des licences de grands noms. À l'approche du 8e anniversaire de l
 a sortie du jeu\, l'équipe audio revient sur les défis qu'elle a relevé
 s et qu'elle relève encore\, alors qu'elle passe d'un projet indépendant
  au Panthéon de l'horreur.
LAST-MODIFIED;VALUE=DATE-TIME:20240209T201208Z
LOCATION:A-832\, 8éme étage\, Pavillon de musique Elizabeth Wirth\, 527 
 Sherbrooke O.
URL:https://www.cirmmt.org/fr/events/workshops/research/iam-cirmmt-23
END:VEVENT
BEGIN:VTIMEZONE
TZID:America/Toronto
X-LIC-LOCATION:America/Toronto
BEGIN:STANDARD
DTSTART;VALUE=DATE-TIME:20231105T010000
TZNAME:EST
TZOFFSETFROM:-0400
TZOFFSETTO:-0500
END:STANDARD
END:VTIMEZONE
END:VCALENDAR
