BEGIN:VCALENDAR
VERSION:2.0
PRODID:-//Plone.org//NONSGML plone.app.event//EN
X-WR-TIMEZONE:America/Toronto
BEGIN:VEVENT
SUMMARY:IAM@CIRMMT#28 : Demo Derby annuelle
DTSTART;TZID=America/Toronto;VALUE=DATE-TIME:20241205T180000
DTEND;TZID=America/Toronto;VALUE=DATE-TIME:20241205T220000
DTSTAMP;VALUE=DATE-TIME:20260421T094512Z
UID:a326de3863f74b1c8e6b89034fb47b31@project_zeoclients
CONTACT:info[AROBASE]interactiveaudio[POINT]com\, https://www.interactivea
 udiomontreal.com/fr/evenements/iam-cirmmt-28-demo-derby-annuelle
CREATED;VALUE=DATE-TIME:20241114T161845Z
DESCRIPTION:Notre rencontre annuelle pour célébrer la communauté locale
LAST-MODIFIED;VALUE=DATE-TIME:20250124T185021Z
LOCATION:A-832 (8e étage)\, Pavillon de musique Elizabeth Wirth\, 527\, S
 herbrooke O.
URL:https://www.cirmmt.org/fr/events/workshops/research/iam-cirmmt-28-demo
 -derby-annuelle
END:VEVENT
BEGIN:VTIMEZONE
TZID:America/Toronto
X-LIC-LOCATION:America/Toronto
BEGIN:STANDARD
DTSTART;VALUE=DATE-TIME:20241103T010000
TZNAME:EST
TZOFFSETFROM:-0400
TZOFFSETTO:-0500
END:STANDARD
END:VTIMEZONE
END:VCALENDAR
