BEGIN:VCALENDAR
VERSION:2.0
PRODID:-//Plone.org//NONSGML plone.app.event//EN
X-WR-TIMEZONE:America/Toronto
BEGIN:VEVENT
SUMMARY:IAM@CIRMMT#30—33 Immortals : Choisissez vos batailles
DTSTART;TZID=America/Toronto;VALUE=DATE-TIME:20250508T180000
DTEND;TZID=America/Toronto;VALUE=DATE-TIME:20250508T220000
DTSTAMP;VALUE=DATE-TIME:20260421T094541Z
UID:cb31e1b68b6a4f7c9a6877b52d86f3ea@project_zeoclients
CONTACT:info[AROBASE]interactivemontreal[POINT]com
CREATED;VALUE=DATE-TIME:20250408T160245Z
DESCRIPTION:Ulric Corbeil Trudel\, cofondateur et directeur de studio chez
  Pixel Audio\, présente une plongée dans la production audio de 33 Immor
 tals.
LAST-MODIFIED;VALUE=DATE-TIME:20250408T160643Z
LOCATION:A832 (8 étage)\, Pavillon de musique Elizabeth Schulich\, 527\, 
 Sherbrooke O
URL:https://www.cirmmt.org/fr/events/workshops/research/iam-cirmmt-3020143
 3-immortals-choisissez-vos-batailles
END:VEVENT
BEGIN:VTIMEZONE
TZID:America/Toronto
X-LIC-LOCATION:America/Toronto
BEGIN:DAYLIGHT
DTSTART;VALUE=DATE-TIME:20250309T030000
TZNAME:EDT
TZOFFSETFROM:-0500
TZOFFSETTO:-0400
END:DAYLIGHT
END:VTIMEZONE
END:VCALENDAR
