BEGIN:VCALENDAR
VERSION:2.0
PRODID:-//Plone.org//NONSGML plone.app.event//EN
X-WR-TIMEZONE:America/Toronto
BEGIN:VEVENT
SUMMARY:IAM-CIRMMT Series #13 - Lightning Talks
DTSTART;TZID=America/Toronto;VALUE=DATE-TIME:20211125T180000
DTEND;TZID=America/Toronto;VALUE=DATE-TIME:20211125T203000
DTSTAMP;VALUE=DATE-TIME:20260421T134046Z
UID:cdb243a345ec4e59a65c24a60c18c70e@project_zeoclients
CONTACT:cirmmt.info[AT]mcgill.ca\, cirmmt.info@mcgill.ca
CREATED;VALUE=DATE-TIME:20211110T191716Z
DESCRIPTION:This workshop is a collaboration between CIRMMT (RA1 - Instrum
 ents\, devices and systems) and Interactive Audio Montreal). It is free an
 d open to all. Registration is required.
LAST-MODIFIED;VALUE=DATE-TIME:20211110T191724Z
LOCATION:A-832\, Elizabeth Wirth Music Building\, 527 Rue Sherbrooke Ouest
URL:https://www.cirmmt.org/fr/events/workshops/research/iam-cirmmt-series-
 13
END:VEVENT
BEGIN:VTIMEZONE
TZID:America/Toronto
X-LIC-LOCATION:America/Toronto
BEGIN:STANDARD
DTSTART;VALUE=DATE-TIME:20211107T010000
TZNAME:EST
TZOFFSETFROM:-0400
TZOFFSETTO:-0500
END:STANDARD
END:VTIMEZONE
END:VCALENDAR
