BEGIN:VCALENDAR
VERSION:2.0
PRODID:-//Plone.org//NONSGML plone.app.event//EN
X-WR-TIMEZONE:America/Toronto
BEGIN:VEVENT
SUMMARY:Atelier sur les espaces immersifs éphémères (SAT/Metalab)
DTSTART;TZID=America/Toronto;VALUE=DATE-TIME:20230203T084500
DTEND;TZID=America/Toronto;VALUE=DATE-TIME:20230203T160000
DTSTAMP;VALUE=DATE-TIME:20260423T071412Z
UID:c9b5fc3d14e04c13b80df45ea14d5cbb@project_zeoclients
CONTACT:emeneses [AT] sat.qc.ca>
CREATED;VALUE=DATE-TIME:20221207T182746Z
DESCRIPTION:Un atelier en collaboration avec l'axe de recherche 4 du CIRMM
 T et Metalab\, le laboratoire de recherche de la Société des arts techno
 logiques [SAT].
LAST-MODIFIED;VALUE=DATE-TIME:20230130T163123Z
LOCATION:A-832 (8e étage)\, 527 Sherbrooke O.
URL:https://www.cirmmt.org/fr/events/workshops/research/immersive-spaces-w
 orkshop-sat
END:VEVENT
BEGIN:VTIMEZONE
TZID:America/Toronto
X-LIC-LOCATION:America/Toronto
BEGIN:STANDARD
DTSTART;VALUE=DATE-TIME:20221106T010000
TZNAME:EST
TZOFFSETFROM:-0400
TZOFFSETTO:-0500
END:STANDARD
END:VTIMEZONE
END:VCALENDAR
