BEGIN:VCALENDAR
VERSION:2.0
PRODID:-//Plone.org//NONSGML plone.app.event//EN
X-WR-TIMEZONE:America/Toronto
BEGIN:VEVENT
SUMMARY:L'impact de la technologie numérique sur les instruments\, les pe
 rformances\, les notations et les compositions - JOUR 2
DTSTART;TZID=America/Toronto;VALUE=DATE-TIME:20230308T140000
DTEND;TZID=America/Toronto;VALUE=DATE-TIME:20230308T174500
DTSTAMP;VALUE=DATE-TIME:20260421T121553Z
UID:fef3ca5f98b641bda3d12f0a83099509@project_zeoclients
CONTACT:takuto.fukuda [AT] mail.mcgill.ca
CREATED;VALUE=DATE-TIME:20230206T165324Z
DESCRIPTION:Un atelier de deux jours avec l'équipe de recherche DigiScore
  (Prof. Craig Vear et Dr. Solomiya Moroz) et Matthew Lane\, prévu en conj
 onction avec les axes de recherche 1\, 2 et 4 du CIRMMT.
LAST-MODIFIED;VALUE=DATE-TIME:20230306T145847Z
LOCATION:A-832 (8e étage)\, 527 Sherbrooke O.
URL:https://www.cirmmt.org/fr/events/workshops/research/impact-digital-tec
 hnology-day2
END:VEVENT
BEGIN:VTIMEZONE
TZID:America/Toronto
X-LIC-LOCATION:America/Toronto
BEGIN:STANDARD
DTSTART;VALUE=DATE-TIME:20221106T010000
TZNAME:EST
TZOFFSETFROM:-0400
TZOFFSETTO:-0500
END:STANDARD
END:VTIMEZONE
END:VCALENDAR
