BEGIN:VCALENDAR
VERSION:2.0
PRODID:-//Plone.org//NONSGML plone.app.event//EN
X-WR-TIMEZONE:America/Toronto
BEGIN:VEVENT
SUMMARY:L'impact de la technologie numérique sur les instruments\, les pe
 rformances\, les notations et les compositions - JOUR 1
DTSTART;TZID=America/Toronto;VALUE=DATE-TIME:20230307T090000
DTEND;TZID=America/Toronto;VALUE=DATE-TIME:20230307T174500
DTSTAMP;VALUE=DATE-TIME:20260421T133718Z
UID:5940ca9b2e674a60bc570932ec299232@project_zeoclients
CONTACT:takuto.fukuda [AT] mail.mcgill.ca
CREATED;VALUE=DATE-TIME:20230206T162719Z
DESCRIPTION:Un atelier de deux jours avec l'équipe de recherche DigiScore
  (Prof. Craig Vear et Dr. Solomiya Moroz) et Matthew Lane\, prévu en conj
 onction avec les axes de recherche 1\, 2 et 4 du CIRMMT.
LAST-MODIFIED;VALUE=DATE-TIME:20230306T145245Z
LOCATION:A-832 (8e étage)\, 527 Sherbrooke O.
URL:https://www.cirmmt.org/fr/events/workshops/research/impact-digital-tec
 hnology
END:VEVENT
BEGIN:VTIMEZONE
TZID:America/Toronto
X-LIC-LOCATION:America/Toronto
BEGIN:STANDARD
DTSTART;VALUE=DATE-TIME:20221106T010000
TZNAME:EST
TZOFFSETFROM:-0400
TZOFFSETTO:-0500
END:STANDARD
END:VTIMEZONE
END:VCALENDAR
