BEGIN:VCALENDAR
VERSION:2.0
PRODID:-//Plone.org//NONSGML plone.app.event//EN
X-WR-TIMEZONE:America/Toronto
BEGIN:VEVENT
SUMMARY:Atelier d'improvisation électroacoustique avec Pamela Z
DTSTART;TZID=America/Toronto;VALUE=DATE-TIME:20230124T150000
DTEND;TZID=America/Toronto;VALUE=DATE-TIME:20230124T163000
DTSTAMP;VALUE=DATE-TIME:20260421T133725Z
UID:9237e5e7299d423f9dcc099e28eaf175@project_zeoclients
CONTACT:info [AROBAS] cirmmt.org
CREATED;VALUE=DATE-TIME:20230116T174153Z
DESCRIPTION:Un atelier avec l'artiste invitée Pamela Z sur l'improvisatio
 n électroacoustique à l'Université de Montréal
LAST-MODIFIED;VALUE=DATE-TIME:20230123T144245Z
LOCATION:Salle Serge-Garant (B-484)\, Faculté de musique\, Université de
  Montréal\, 200 avenue Vincent-d'Indy
URL:https://www.cirmmt.org/fr/events/workshops/research/improvisation-pame
 laz
END:VEVENT
BEGIN:VTIMEZONE
TZID:America/Toronto
X-LIC-LOCATION:America/Toronto
BEGIN:STANDARD
DTSTART;VALUE=DATE-TIME:20221106T010000
TZNAME:EST
TZOFFSETFROM:-0400
TZOFFSETTO:-0500
END:STANDARD
END:VTIMEZONE
END:VCALENDAR
