BEGIN:VCALENDAR
VERSION:2.0
PRODID:-//Plone.org//NONSGML plone.app.event//EN
X-WR-TIMEZONE:America/Toronto
BEGIN:VEVENT
SUMMARY:Journée feedback – 3e édition
DTSTART;TZID=America/Toronto;VALUE=DATE-TIME:20241206T090000
DTEND;TZID=America/Toronto;VALUE=DATE-TIME:20241206T152000
DTSTAMP;VALUE=DATE-TIME:20260421T111143Z
UID:beff43dcdf8b4cd6a4290385d2902280@project_zeoclients
CONTACT:info[AROBASE]cirmmt[POINT]org\, https://lfo-lab.ca/
CREATED;VALUE=DATE-TIME:20241031T193816Z
DESCRIPTION:Les Journées Feedback sont organisées par Sabrina Caron et M
 erlin Campbell avec le soutien de Dominic Thibault\, du Laboratoire Formes
 ·Ondes et du CIRMMT.
LAST-MODIFIED;VALUE=DATE-TIME:20250414T141250Z
LOCATION:Studio multipiste B-187 (rez-de-chaussée)\, Pavillon de la facul
 té de musique\, Université de Montréal\, 200 avenue Vincent-D’indy
URL:https://www.cirmmt.org/fr/events/workshops/research/jfb3-06-dec-2024
END:VEVENT
BEGIN:VTIMEZONE
TZID:America/Toronto
X-LIC-LOCATION:America/Toronto
BEGIN:STANDARD
DTSTART;VALUE=DATE-TIME:20241103T010000
TZNAME:EST
TZOFFSETFROM:-0400
TZOFFSETTO:-0500
END:STANDARD
END:VTIMEZONE
END:VCALENDAR
