BEGIN:VCALENDAR
VERSION:2.0
PRODID:-//Plone.org//NONSGML plone.app.event//EN
X-WR-TIMEZONE:America/Toronto
BEGIN:VEVENT
SUMMARY:New instruments and neural networks
DTSTART;TZID=America/Montreal;VALUE=DATE-TIME:20170307T120000
DTEND;TZID=America/Montreal;VALUE=DATE-TIME:20170307T140000
DTSTAMP;VALUE=DATE-TIME:20260421T164524Z
UID:719007b51b45468db5b80a61feb98bb6@project_zeoclients
CREATED;VALUE=DATE-TIME:20210321T220127Z
DESCRIPTION:A CIRMMT Research Axis 4 Workshop with Laetitia Sonami. Regist
 ration required.
LAST-MODIFIED;VALUE=DATE-TIME:20210420T151240Z
LOCATION:A412\, Elizabeth Wirth Music Building\, 527 Sherbrooke St W
URL:https://www.cirmmt.org/fr/events/workshops/research/laetitia-sonami-wo
 rkshop/Event
END:VEVENT
BEGIN:VTIMEZONE
TZID:America/Montreal
X-LIC-LOCATION:America/Montreal
BEGIN:STANDARD
DTSTART;VALUE=DATE-TIME:20161106T010000
TZNAME:EST
TZOFFSETFROM:-0400
TZOFFSETTO:-0500
END:STANDARD
END:VTIMEZONE
END:VCALENDAR
