BEGIN:VCALENDAR
VERSION:2.0
PRODID:-//Plone.org//NONSGML plone.app.event//EN
X-WR-TIMEZONE:America/Toronto
BEGIN:VEVENT
SUMMARY:Mimétisme: Analyse des œuvres augmentées pour percussions
DTSTART;TZID=America/Toronto;VALUE=DATE-TIME:20231013T143000
DTEND;TZID=America/Toronto;VALUE=DATE-TIME:20231013T163000
DTSTAMP;VALUE=DATE-TIME:20260421T110806Z
UID:190d9053bc80476c91ddf17dfd99f49a@project_zeoclients
CONTACT:info [AT] cirmmt [DOT] org\, info@cirmmt.org
CREATED;VALUE=DATE-TIME:20231002T145607Z
DESCRIPTION:L'atelier sera basé sur Mimétisme (2021) - une pièce récen
 te pour percussions\, électronique temps réel et traitement vidéo temps
  réel\, composée par Örjan Sandred.
LAST-MODIFIED;VALUE=DATE-TIME:20231002T150544Z
LOCATION:A-818 (8eme etage)\, 527 rue Sherbrooke O\, Montreal\, QC H3A 1E3
URL:https://www.cirmmt.org/fr/events/workshops/research/mimetisme-workshop
END:VEVENT
BEGIN:VTIMEZONE
TZID:America/Toronto
X-LIC-LOCATION:America/Toronto
BEGIN:DAYLIGHT
DTSTART;VALUE=DATE-TIME:20230312T030000
TZNAME:EDT
TZOFFSETFROM:-0500
TZOFFSETTO:-0400
END:DAYLIGHT
END:VTIMEZONE
END:VCALENDAR
