BEGIN:VCALENDAR
VERSION:2.0
PRODID:-//Plone.org//NONSGML plone.app.event//EN
X-WR-TIMEZONE:America/Toronto
BEGIN:VEVENT
SUMMARY:Forum on “Musicality and Technology”
DTSTART;TZID=America/Montreal;VALUE=DATE-TIME:20161021T123000
DTEND;TZID=America/Montreal;VALUE=DATE-TIME:20161021T153000
DTSTAMP;VALUE=DATE-TIME:20260421T175841Z
UID:7c1db068cb1b4494926aa1a43a1f5e9d@project_zeoclients
CREATED;VALUE=DATE-TIME:20210321T220129Z
DESCRIPTION:This CIRMMT Research Workshop is organized by CIRMMT Research 
 Axis 3 - Cognition\, Perception\, and Movement- It will take place on Frid
 ay\, October 21st\, 2016.  in room A-832 (New Music Building). This worksh
 op is free and open to all. \nNo registration is required.
LAST-MODIFIED;VALUE=DATE-TIME:20210420T151109Z
LOCATION:A832\, Elizabeth Wirth\, New Music Building\, 527 Sherbrooke St. 
 West.
URL:https://www.cirmmt.org/fr/events/workshops/research/musical_machines
END:VEVENT
BEGIN:VTIMEZONE
TZID:America/Montreal
X-LIC-LOCATION:America/Montreal
BEGIN:DAYLIGHT
DTSTART;VALUE=DATE-TIME:20160313T030000
TZNAME:EDT
TZOFFSETFROM:-0500
TZOFFSETTO:-0400
END:DAYLIGHT
END:VTIMEZONE
END:VCALENDAR
