BEGIN:VCALENDAR
VERSION:2.0
PRODID:-//Plone.org//NONSGML plone.app.event//EN
X-WR-TIMEZONE:America/Toronto
BEGIN:VEVENT
SUMMARY:Atelier sur la santé auditive des musiciens
DTSTART;TZID=America/Toronto;VALUE=DATE-TIME:20220511T103000
DTEND;TZID=America/Toronto;VALUE=DATE-TIME:20220511T150000
DTSTAMP;VALUE=DATE-TIME:20260421T123311Z
UID:f98f0e74d5454f0d92b32e7a94caf955@project_zeoclients
CONTACT:isabelle.cossette [AT] mcgill.ca
CREATED;VALUE=DATE-TIME:20220502T161048Z
DESCRIPTION:L'axe de recherche 3 organise un atelier pour discuter de la p
 révalence des problèmes de santé auditive auxquels les musiciens sont c
 onfrontés\, du développement actuel et futur des protections auditives a
 ctives\, ainsi que des programmes de conservation de l'audition.
LAST-MODIFIED;VALUE=DATE-TIME:20220524T175645Z
LOCATION:C-201\, 555 rue Sherbrook Ouest (à confirmer)
URL:https://www.cirmmt.org/fr/events/workshops/research/musicians-hearing-
 health
END:VEVENT
BEGIN:VTIMEZONE
TZID:America/Toronto
X-LIC-LOCATION:America/Toronto
BEGIN:DAYLIGHT
DTSTART;VALUE=DATE-TIME:20220313T030000
TZNAME:EDT
TZOFFSETFROM:-0500
TZOFFSETTO:-0400
END:DAYLIGHT
END:VTIMEZONE
END:VCALENDAR
