BEGIN:VCALENDAR
VERSION:2.0
PRODID:-//Plone.org//NONSGML plone.app.event//EN
X-WR-TIMEZONE:America/Toronto
BEGIN:VEVENT
SUMMARY:Workshop - Recognizing and managing risk factors for drumming-rela
 ted musculoskeletal disorders
DTSTART;TZID=America/Toronto;VALUE=DATE-TIME:20211027T100000
DTEND;TZID=America/Toronto;VALUE=DATE-TIME:20211027T113000
DTSTAMP;VALUE=DATE-TIME:20260421T133840Z
UID:3edc027c11f1410885fa704ce90a1173@project_zeoclients
CONTACT:cirmmt.info[AT]mcgill.ca\, cirmmt.info@mcgill.ca
CREATED;VALUE=DATE-TIME:20211018T184800Z
DESCRIPTION:A workshop with distinguished lecture guest\, Dr. Nadia Azar (
 University of Windsor)
LAST-MODIFIED;VALUE=DATE-TIME:20211018T190102Z
URL:https://www.cirmmt.org/fr/events/workshops/research/nadia-azar
END:VEVENT
BEGIN:VTIMEZONE
TZID:America/Toronto
X-LIC-LOCATION:America/Toronto
BEGIN:DAYLIGHT
DTSTART;VALUE=DATE-TIME:20210314T030000
TZNAME:EDT
TZOFFSETFROM:-0500
TZOFFSETTO:-0400
END:DAYLIGHT
END:VTIMEZONE
END:VCALENDAR
