BEGIN:VCALENDAR
VERSION:2.0
PRODID:-//Plone.org//NONSGML plone.app.event//EN
X-WR-TIMEZONE:America/Toronto
BEGIN:VEVENT
SUMMARY:The North Eastern Connection
DTSTART;TZID=America/Montreal;VALUE=DATE-TIME:20161019T140000
DTEND;TZID=America/Montreal;VALUE=DATE-TIME:20161019T170000
DTSTAMP;VALUE=DATE-TIME:20260421T174940Z
UID:92593a77a5d74d7abdbafd44c0f72dd8@project_zeoclients
CREATED;VALUE=DATE-TIME:20210321T220131Z
DESCRIPTION:This CIRMMT Research Workshop is organized by CIRMMT Research 
 Axis 1 - Instruments\, devices\, and systems- It will take place on Wednes
 day\, October 19\, 2016\, in A832 (New Music Building). This workshop is f
 ree and open to all. \nNo registration is required.
LAST-MODIFIED;VALUE=DATE-TIME:20210321T220131Z
LOCATION:A820\, New Music Building\, 527 Sherbrooke St. West.
URL:https://www.cirmmt.org/fr/events/workshops/research/northeastern%20con
 nection
END:VEVENT
BEGIN:VTIMEZONE
TZID:America/Montreal
X-LIC-LOCATION:America/Montreal
BEGIN:DAYLIGHT
DTSTART;VALUE=DATE-TIME:20160313T030000
TZNAME:EDT
TZOFFSETFROM:-0500
TZOFFSETTO:-0400
END:DAYLIGHT
END:VTIMEZONE
END:VCALENDAR
