BEGIN:VCALENDAR
VERSION:2.0
PRODID:-//Plone.org//NONSGML plone.app.event//EN
X-WR-TIMEZONE:America/Toronto
BEGIN:VEVENT
SUMMARY:[EN LIGNE] Traitement audio spatial pour les applications sonores 
 et musicales
DTSTART;TZID=America/Toronto;VALUE=DATE-TIME:20210226T140000
DTEND;TZID=America/Toronto;VALUE=DATE-TIME:20210226T170000
DTSTAMP;VALUE=DATE-TIME:20260421T134527Z
UID:2ddffcdcf5004e5d830fce0ec3ec288e@project_zeoclients
CREATED;VALUE=DATE-TIME:20241113T162131Z
DESCRIPTION:Cet atelier RA1 est ouvert au grand public sans inscription pr
 éalable. Il se déroulera sur Zoom.
LAST-MODIFIED;VALUE=DATE-TIME:20241113T162154Z
LOCATION:En ligne
URL:https://www.cirmmt.org/fr/events/workshops/research/online-spatial-aud
 io-processing-for-sound-and-music-applications
END:VEVENT
BEGIN:VTIMEZONE
TZID:America/Toronto
X-LIC-LOCATION:America/Toronto
BEGIN:STANDARD
DTSTART;VALUE=DATE-TIME:20201101T010000
TZNAME:EST
TZOFFSETFROM:-0400
TZOFFSETTO:-0500
END:STANDARD
END:VTIMEZONE
END:VCALENDAR
