BEGIN:VCALENDAR
VERSION:2.0
PRODID:-//Plone.org//NONSGML plone.app.event//EN
X-WR-TIMEZONE:America/Toronto
BEGIN:VEVENT
SUMMARY:Workshop:  Project Spationautes with CIRMMT composers and Ensemble
  SuperMusique
DTSTART;TZID=America/Montreal;VALUE=DATE-TIME:20190319T163000
DTEND;TZID=America/Montreal;VALUE=DATE-TIME:20190319T183000
DTSTAMP;VALUE=DATE-TIME:20260421T163013Z
UID:f2d28f01e7ae4f53b160c897cbb958c0@project_zeoclients
CREATED;VALUE=DATE-TIME:20210321T220132Z
DESCRIPTION:A workshop presented by Research Axis 4 (Expanded music practi
 ce).
LAST-MODIFIED;VALUE=DATE-TIME:20210420T151244Z
LOCATION:A832\, Elizabeth Wirth Music Building\, 527 Sherbrooke St W
URL:https://www.cirmmt.org/fr/events/workshops/research/projet-spationaute
 s/spationautes
END:VEVENT
BEGIN:VTIMEZONE
TZID:America/Montreal
X-LIC-LOCATION:America/Montreal
BEGIN:DAYLIGHT
DTSTART;VALUE=DATE-TIME:20190310T030000
TZNAME:EDT
TZOFFSETFROM:-0500
TZOFFSETTO:-0400
END:DAYLIGHT
END:VTIMEZONE
END:VCALENDAR
