BEGIN:VCALENDAR
VERSION:2.0
PRODID:-//Plone.org//NONSGML plone.app.event//EN
X-WR-TIMEZONE:America/Toronto
BEGIN:VEVENT
SUMMARY:Q&R avec Morton Subotnick
DTSTART;TZID=America/Toronto;VALUE=DATE-TIME:20220321T180000
DTEND;TZID=America/Toronto;VALUE=DATE-TIME:20220321T190000
DTSTAMP;VALUE=DATE-TIME:20260421T133848Z
UID:76505850456e40e4829a67c64f8fa327@project_zeoclients
CONTACT:cirmmt.info [AT] mcgill.ca
CREATED;VALUE=DATE-TIME:20220315T152609Z
DESCRIPTION:Une discussion en direct et une séance de questions-réponses
  avec le célèbre compositeur électronique Morton Subotnick (États-Unis
 )\, présentée en collaboration avec MUTEK et Akousma.
LAST-MODIFIED;VALUE=DATE-TIME:20220317T143720Z
LOCATION:A-832 (8e étage)\, Pavillon de musique Elizabeth Wirth\, 527 rue
  Sherbrooke Ouest
URL:https://www.cirmmt.org/fr/events/workshops/research/qa-morton-subotnic
 k
END:VEVENT
BEGIN:VTIMEZONE
TZID:America/Toronto
X-LIC-LOCATION:America/Toronto
BEGIN:DAYLIGHT
DTSTART;VALUE=DATE-TIME:20220313T030000
TZNAME:EDT
TZOFFSETFROM:-0500
TZOFFSETTO:-0400
END:DAYLIGHT
END:VTIMEZONE
END:VCALENDAR
